BEGIN:VCALENDAR
VERSION:2.0
PRODID:-//162.215.253.14//NONSGML kigkonsult.se iCalcreator 2.26.9//
CALSCALE:GREGORIAN
METHOD:PUBLISH
X-FROM-URL:http://clunesmagpies.com.au
X-WR-TIMEZONE:Australia/Melbourne
BEGIN:VTIMEZONE
TZID:Australia/Melbourne
X-LIC-LOCATION:Australia/Melbourne
BEGIN:STANDARD
DTSTART:20210404T030000
TZOFFSETFROM:+1100
TZOFFSETTO:+1000
RDATE:20220403T030000
TZNAME:AEST
END:STANDARD
BEGIN:DAYLIGHT
DTSTART:20201004T020000
TZOFFSETFROM:+1000
TZOFFSETTO:+1100
RDATE:20211003T020000
TZNAME:AEDT
END:DAYLIGHT
END:VTIMEZONE
BEGIN:VEVENT
UID:ai1ec-668@clunesmagpies.com.au
DTSTAMP:20210223T115432Z
CATEGORIES;LANGUAGE=en-US:Fixture
CONTACT:
DESCRIPTION:
DTSTART;VALUE=DATE:20190320
DTEND;VALUE=DATE:20190321
LOCATION:Doug Lindsay Reserve
SEQUENCE:0
SUMMARY:Round 1 v Creswick
URL:http://clunesmagpies.com.au/event/round-1-v-creswick/
X-COST-TYPE:free
END:VEVENT
BEGIN:VEVENT
UID:ai1ec-669@clunesmagpies.com.au
DTSTAMP:20210223T115432Z
CATEGORIES;LANGUAGE=en-US:Fixture
CONTACT:
DESCRIPTION:
DTSTART;VALUE=DATE:20190406
DTEND;VALUE=DATE:20190407
LOCATION:Bull Milgate Reserve
SEQUENCE:0
SUMMARY:Round 2 v Ballan
URL:http://clunesmagpies.com.au/event/round-2-v-ballan/
X-COST-TYPE:free
END:VEVENT
BEGIN:VEVENT
UID:ai1ec-670@clunesmagpies.com.au
DTSTAMP:20210223T115432Z
CATEGORIES;LANGUAGE=en-US:Fixture
CONTACT:
DESCRIPTION:
DTSTART;VALUE=DATE:20190427
DTEND;VALUE=DATE:20190428
LOCATION:Learmonth Rec Reserve
SEQUENCE:0
SUMMARY:Round 4 v Learmonth
URL:http://clunesmagpies.com.au/event/round-4-v-learmonth/
X-COST-TYPE:free
END:VEVENT
BEGIN:VEVENT
UID:ai1ec-671@clunesmagpies.com.au
DTSTAMP:20210223T115432Z
CATEGORIES;LANGUAGE=en-US:Fixture
CONTACT:
DESCRIPTION:
DTSTART;VALUE=DATE:20190504
DTEND;VALUE=DATE:20190505
LOCATION:Bull Milgate Reserve
SEQUENCE:0
SUMMARY:Round 5 v Daylesford
URL:http://clunesmagpies.com.au/event/round-5-v-daylesford/
X-COST-TYPE:free
END:VEVENT
BEGIN:VEVENT
UID:ai1ec-672@clunesmagpies.com.au
DTSTAMP:20210223T115432Z
CATEGORIES;LANGUAGE=en-US:Fixture
CONTACT:
DESCRIPTION:
DTSTART;VALUE=DATE:20190511
DTEND;VALUE=DATE:20190512
SEQUENCE:0
SUMMARY:Round 6 v Carnagham-Linton
URL:http://clunesmagpies.com.au/event/round-6-v-carnagham-linton/
X-COST-TYPE:free
END:VEVENT
BEGIN:VEVENT
UID:ai1ec-673@clunesmagpies.com.au
DTSTAMP:20210223T115432Z
CATEGORIES;LANGUAGE=en-US:Fixture
CONTACT:
DESCRIPTION:
DTSTART;VALUE=DATE:20190525
DTEND;VALUE=DATE:20190526
LOCATION:Bull Milgate Reserve
SEQUENCE:0
SUMMARY:Round 7 v Waubra
URL:http://clunesmagpies.com.au/event/round-7-v-waubra/
X-COST-TYPE:free
END:VEVENT
BEGIN:VEVENT
UID:ai1ec-674@clunesmagpies.com.au
DTSTAMP:20210223T115432Z
CATEGORIES;LANGUAGE=en-US:Fixture
CONTACT:
DESCRIPTION:
DTSTART;VALUE=DATE:20190601
DTEND;VALUE=DATE:20190602
LOCATION:Skipton Rec Reserve
SEQUENCE:0
SUMMARY:Round 8 v Skipton
URL:http://clunesmagpies.com.au/event/round-8-v-skipton/
X-COST-TYPE:free
END:VEVENT
BEGIN:VEVENT
UID:ai1ec-675@clunesmagpies.com.au
DTSTAMP:20210223T115432Z
CATEGORIES;LANGUAGE=en-US:Fixture
CONTACT:
DESCRIPTION:
DTSTART;VALUE=DATE:20190615
DTEND;VALUE=DATE:20190616
LOCATION:Bull Milgate Reserve
SEQUENCE:0
SUMMARY:Round 9 v Bungaree
URL:http://clunesmagpies.com.au/event/round-9-v-bungaree/
X-COST-TYPE:free
END:VEVENT
BEGIN:VEVENT
UID:ai1ec-676@clunesmagpies.com.au
DTSTAMP:20210223T115432Z
CATEGORIES;LANGUAGE=en-US:Fixture
CONTACT:
DESCRIPTION:
DTSTART;VALUE=DATE:20190622
DTEND;VALUE=DATE:20190623
SEQUENCE:0
SUMMARY:Round 10 v Springbank
URL:http://clunesmagpies.com.au/event/round-10-v-springbank/
X-COST-TYPE:free
END:VEVENT
BEGIN:VEVENT
UID:ai1ec-677@clunesmagpies.com.au
DTSTAMP:20210223T115432Z
CATEGORIES;LANGUAGE=en-US:Fixture
CONTACT:
DESCRIPTION:
DTSTART;VALUE=DATE:20190629
DTEND;VALUE=DATE:20190630
LOCATION:Bull Milgate Reserve
SEQUENCE:0
SUMMARY:Round 11 v Newlyn
URL:http://clunesmagpies.com.au/event/round-11-v-newlyn/
X-COST-TYPE:free
END:VEVENT
BEGIN:VEVENT
UID:ai1ec-678@clunesmagpies.com.au
DTSTAMP:20210223T115432Z
CATEGORIES;LANGUAGE=en-US:Fixture
CONTACT:
DESCRIPTION:
DTSTART;VALUE=DATE:20190706
DTEND;VALUE=DATE:20190707
LOCATION:Buninyong Rec Reserve
SEQUENCE:0
SUMMARY:Round 12 v Buninyong
URL:http://clunesmagpies.com.au/event/round-12-v-buninyong/
X-COST-TYPE:free
END:VEVENT
BEGIN:VEVENT
UID:ai1ec-679@clunesmagpies.com.au
DTSTAMP:20210223T115432Z
CATEGORIES;LANGUAGE=en-US:Fixture
CONTACT:
DESCRIPTION:
DTSTART;VALUE=DATE:20190713
DTEND;VALUE=DATE:20190714
LOCATION:Bull Milgate Reserve
SEQUENCE:0
SUMMARY:Round 13 v Gordon
URL:http://clunesmagpies.com.au/event/round-13-v-gordon/
X-COST-TYPE:free
END:VEVENT
BEGIN:VEVENT
UID:ai1ec-680@clunesmagpies.com.au
DTSTAMP:20210223T115432Z
CATEGORIES;LANGUAGE=en-US:Fixture
CONTACT:
DESCRIPTION:
DTSTART;VALUE=DATE:20190720
DTEND;VALUE=DATE:20190721
LOCATION:Dunnstown Rec Reserve
SEQUENCE:0
SUMMARY:Round 14 v Dunnstown
URL:http://clunesmagpies.com.au/event/round-14-v-dunnstown/
X-COST-TYPE:free
END:VEVENT
BEGIN:VEVENT
UID:ai1ec-681@clunesmagpies.com.au
DTSTAMP:20210223T115432Z
CATEGORIES;LANGUAGE=en-US:Fixture
CONTACT:
DESCRIPTION:
DTSTART;VALUE=DATE:20190727
DTEND;VALUE=DATE:20190728
LOCATION:Bull Milgate Reserve
SEQUENCE:0
SUMMARY:Round 15 v Beaufort
URL:http://clunesmagpies.com.au/event/round-15-v-beaufort/
X-COST-TYPE:free
END:VEVENT
BEGIN:VEVENT
UID:ai1ec-682@clunesmagpies.com.au
DTSTAMP:20210223T115432Z
CATEGORIES;LANGUAGE=en-US:Fixture
CONTACT:
DESCRIPTION:
DTSTART;VALUE=DATE:20190803
DTEND;VALUE=DATE:20190804
LOCATION:Hepburn Rec Reserve
SEQUENCE:0
SUMMARY:Round 16 v Hepburn
URL:http://clunesmagpies.com.au/event/round-16-v-hepburn/
X-COST-TYPE:free
END:VEVENT
BEGIN:VEVENT
UID:ai1ec-683@clunesmagpies.com.au
DTSTAMP:20210223T115432Z
CATEGORIES;LANGUAGE=en-US:Fixture
CONTACT:
DESCRIPTION:
DTSTART;VALUE=DATE:20190810
DTEND;VALUE=DATE:20190811
LOCATION:Bull Milgate Reserve
SEQUENCE:0
SUMMARY:Round 17 v Rokewood
URL:http://clunesmagpies.com.au/event/round-17-v-rokewood/
X-COST-TYPE:free
END:VEVENT
BEGIN:VEVENT
UID:ai1ec-646@clunesmagpies.com.au
DTSTAMP:20210223T115432Z
CATEGORIES;LANGUAGE=en-US:Fixture
CONTACT:
DESCRIPTION:Game Times\nNetball\nU13 – 1pm\nU15 – 2pm\nU17 – 3pm\nC Grade –
  4pm\nB Grade – 5pm\nA Grade – 6pm\n \nFootball\nJuniors – 3pm\nReserves –
  4:30pm\nSeniors – 6:30pm
DTSTART;TZID=Australia/Melbourne:20190323T130000
DTEND;TZID=Australia/Melbourne:20190323T220000
GEO:+38.996842;-77.031216
LOCATION:Bull Milgate Reserve @ Cameron Street\, Clunes\, Vic 3370
SEQUENCE:0
SUMMARY:Pratice Match V Royal Park
URL:http://clunesmagpies.com.au/event/pratice-match-v-royal-park/
X-COST-TYPE:free
X-ALT-DESC;FMTTYPE=text/html:<!DOCTYPE HTML PUBLIC '-//W3C//DTD HTML 3.2//E
 N'>\\n<HTML>\\n<HEAD>\\n<TITLE></TITLE>\\n</HEAD>\\n<BODY><p>Game Times</p
 >\n<p>Netball</p>\n<p>U13 – 1pm</p>\n<p>U15 – 2pm</p>\n<p>U17 – 3pm</p>\n<
 p>C Grade – 4pm</p>\n<p>B Grade – 5pm</p>\n<p>A Grade – 6pm</p>\n<p> </p>
 \n<p>Football</p>\n<p>Juniors – 3pm</p>\n<p>Reserves – 4:30pm</p>\n<p>Seni
 ors – 6:30pm</p>\n</BODY></HTML>
END:VEVENT
END:VCALENDAR
