BEGIN:VCALENDAR
VERSION:2.0
PRODID:-//162.215.253.14//NONSGML kigkonsult.se iCalcreator 2.26.9//
CALSCALE:GREGORIAN
METHOD:PUBLISH
X-WR-CALNAME:Clunes F.N.C
X-WR-CALDESC:Football &amp\; Netball News
X-FROM-URL:http://clunesmagpies.com.au
X-WR-TIMEZONE:Australia/Melbourne
BEGIN:VTIMEZONE
TZID:Australia/Melbourne
X-LIC-LOCATION:Australia/Melbourne
BEGIN:STANDARD
DTSTART:20210404T030000
TZOFFSETFROM:+1100
TZOFFSETTO:+1000
RDATE:20220403T030000
TZNAME:AEST
END:STANDARD
BEGIN:DAYLIGHT
DTSTART:20201004T020000
TZOFFSETFROM:+1000
TZOFFSETTO:+1100
RDATE:20211003T020000
TZNAME:AEDT
END:DAYLIGHT
END:VTIMEZONE
BEGIN:VEVENT
UID:ai1ec-678@clunesmagpies.com.au
DTSTAMP:20210223T121401Z
CATEGORIES;LANGUAGE=en-US:Fixture
CONTACT:
DESCRIPTION:
DTSTART;VALUE=DATE:20190706
DTEND;VALUE=DATE:20190707
LOCATION:Buninyong Rec Reserve
SEQUENCE:0
SUMMARY:Round 12 v Buninyong
URL:http://clunesmagpies.com.au/event/round-12-v-buninyong/
X-COST-TYPE:free
END:VEVENT
END:VCALENDAR
