BEGIN:VCALENDAR
VERSION:2.0
PRODID:-//162.215.253.14//NONSGML kigkonsult.se iCalcreator 2.26.9//
CALSCALE:GREGORIAN
METHOD:PUBLISH
X-WR-CALNAME:Clunes F.N.C
X-WR-CALDESC:Football &amp\; Netball News
X-FROM-URL:http://clunesmagpies.com.au
X-WR-TIMEZONE:Australia/Melbourne
BEGIN:VTIMEZONE
TZID:Australia/Melbourne
X-LIC-LOCATION:Australia/Melbourne
BEGIN:STANDARD
DTSTART:20210404T030000
TZOFFSETFROM:+1100
TZOFFSETTO:+1000
RDATE:20220403T030000
TZNAME:AEST
END:STANDARD
BEGIN:DAYLIGHT
DTSTART:20201004T020000
TZOFFSETFROM:+1000
TZOFFSETTO:+1100
RDATE:20211003T020000
TZNAME:AEDT
END:DAYLIGHT
END:VTIMEZONE
BEGIN:VEVENT
UID:ai1ec-646@clunesmagpies.com.au
DTSTAMP:20210223T122741Z
CATEGORIES;LANGUAGE=en-US:Fixture
CONTACT:
DESCRIPTION:<p>Game Times</p>\n<p>Netball</p>\n<p>U13 – 1pm</p>\n<p>U15 – 2
 pm</p>\n<p>U17 – 3pm</p>\n<p>C Grade – 4pm</p>\n<p>B Grade – 5pm</p>\n<p>A
  Grade – 6pm</p>\n<p> </p>\n<p>Football</p>\n<p>Juniors – 3pm</p>\n<p>Rese
 rves – 4:30pm</p>\n<p>Seniors – 6:30pm</p>
DTSTART;TZID=Australia/Melbourne:20190323T130000
DTEND;TZID=Australia/Melbourne:20190323T220000
GEO:+38.996842;-77.031216
LOCATION:Bull Milgate Reserve @ Cameron Street\, Clunes\, Vic 3370
SEQUENCE:0
SUMMARY:Pratice Match V Royal Park
URL:http://clunesmagpies.com.au/event/pratice-match-v-royal-park/
X-COST-TYPE:free
END:VEVENT
END:VCALENDAR
